BEGIN:VCALENDAR
VERSION:2.0
PRODID:-//Dunkle Lande e.V. - ECPv6.2.8.1//NONSGML v1.0//EN
CALSCALE:GREGORIAN
METHOD:PUBLISH
X-WR-CALNAME:Dunkle Lande e.V.
X-ORIGINAL-URL:https://neu.dunkle-lande.de
X-WR-CALDESC:Veranstaltungen für Dunkle Lande e.V.
REFRESH-INTERVAL;VALUE=DURATION:PT1H
X-Robots-Tag:noindex
X-PUBLISHED-TTL:PT1H
BEGIN:VTIMEZONE
TZID:Europe/Berlin
BEGIN:DAYLIGHT
TZOFFSETFROM:+0100
TZOFFSETTO:+0200
TZNAME:CEST
DTSTART:20250330T010000
END:DAYLIGHT
BEGIN:STANDARD
TZOFFSETFROM:+0200
TZOFFSETTO:+0100
TZNAME:CET
DTSTART:20251026T010000
END:STANDARD
END:VTIMEZONE
BEGIN:VEVENT
DTSTART;VALUE=DATE:20250606
DTEND;VALUE=DATE:20250609
DTSTAMP:20260423T065330
CREATED:20231203T205302Z
LAST-MODIFIED:20241220T090430Z
UID:10000009-1749168000-1749427199@neu.dunkle-lande.de
SUMMARY:Der behefte Wyrm 6 - Petersilienhochzeit
DESCRIPTION:Anmeldung ab 21.12.2023 möglich. \n3 Tages Hütten-Zelt-Con\, Was ist der behefte Wyrm? \nACHTUNG!\nBei dieser Veranstaltung handelt es sich NUR um ein Einladungscon für Spieler.\nInteressierte Spieler können gerne per Mail oder Telefon anfragen. Grundsätzlich lassen wir aber keine Powergamer und keine fanatischen Lichties/Dunkle oder Chaos-Gruppen zu. Dasselbe gilt auch für Adelsspieler oder Ritter mit Gefolge. \nNSCs werden gesondert eingeladen.  \nAb 2021 gibt es für Spieler keine Staffelpreise mehr nach Anmelde- bzw. Überweisungsdatum. Es gibt ein Kontigent mit dem Preis „Budget“ und ein Kontigent mit dem Preis „Normal“ für SCs. Das kann entweder bedeuten\, diejenigen die sich zuerst anmelden haben den besten Preis oder ihr sagt „ich kann mir den normalen Ticketpreis leisten und lasse anderen die günstigere Version“. Das liegt voll bei euch.
URL:https://neu.dunkle-lande.de/veranstaltung/dbw-6-oder-schattenzeit-35/
LOCATION:CVJM Herbstein\, Ernst-Klotz-Weg 1\, Herbstein\, Hessen\, 36358\, Deutschland
CATEGORIES:Der behefte Wyrm
END:VEVENT
END:VCALENDAR